0.250000
0.000000
0.000000
-0.250000
570200.125000
4698799.875000
