0.250000
0.000000
0.000000
-0.250000
566790.125000
4696449.875000
