0.250000
0.000000
0.000000
-0.250000
570250.125000
4694169.875000
