0.250000
0.000000
0.000000
-0.250000
583960.125000
4694329.875000
