0.250000
0.000000
0.000000
-0.250000
577130.125000
4691929.875000
