0.250000
0.000000
0.000000
-0.250000
573720.125000
4689579.875000
