0.250000
0.000000
0.000000
-0.250000
611210.125000
4706289.875000
