0.250000
0.000000
0.000000
-0.250000
614640.125000
4706349.875000
