0.250000
0.000000
0.000000
-0.250000
618140.125000
4701779.875000
