0.250000
0.000000
0.000000
-0.250000
597620.125000
4699139.875000
