0.250000
0.000000
0.000000
-0.250000
604470.125000
4699239.875000
