0.250000
0.000000
0.000000
-0.250000
594250.125000
4694459.875000
