0.250000
0.000000
0.000000
-0.250000
618260.125000
4694839.875000
