0.250000
0.000000
0.000000
-0.250000
594310.125000
4689839.875000
