0.250000
0.000000
0.000000
-0.250000
624910.125000
4706529.875000
