0.250000
0.000000
0.000000
-0.250000
624990.125000
4701899.875000
