0.250000
0.000000
0.000000
-0.250000
631840.125000
4702029.875000
