0.250000
0.000000
0.000000
-0.250000
621770.125000
4690279.875000
