0.250000
0.000000
0.000000
-0.250000
628630.125000
4690399.875000
