0.250000
0.000000
0.000000
-0.250000
652400.125000
4702459.875000
