0.250000
0.000000
0.000000
-0.250000
659250.125000
4702619.875000
