0.250000
0.000000
0.000000
-0.250000
587480.125000
4687429.875000
