0.250000
0.000000
0.000000
-0.250000
587510.125000
4685119.875000
