0.250000
0.000000
0.000000
-0.250000
594340.125000
4687519.875000
