0.250000
0.000000
0.000000
-0.250000
611510.125000
4687789.875000
