0.250000
0.000000
0.000000
-0.250000
594410.125000
4682899.875000
