0.250000
0.000000
0.000000
-0.250000
594440.125000
4680579.875000
