0.250000
0.000000
0.000000
-0.250000
618490.125000
4680959.875000
