0.250000
0.000000
0.000000
-0.250000
608220.125000
4678479.875000
