0.250000
0.000000
0.000000
-0.250000
601380.125000
4676059.875000
