0.250000
0.000000
0.000000
-0.250000
618650.125000
4671709.875000
