0.250000
0.000000
0.000000
-0.250000
622050.125000
4674079.875000
