0.250000
0.000000
0.000000
-0.250000
622090.125000
4671769.875000
