0.250000
0.000000
0.000000
-0.250000
628970.125000
4671889.875000
