0.250000
0.000000
0.000000
-0.250000
591240.125000
4662029.875000
