1.000000
0.000000
0.000000
-1.000000
559410.500000
4751989.500000
