1.000000
0.000000
0.000000
-1.000000
586500.500000
4761559.500000
