1.000000
0.000000
0.000000
-1.000000
607020.500000
4752609.500000
