1.000000
0.000000
0.000000
-1.000000
627250.500000
4762229.500000
