1.000000
0.000000
0.000000
-1.000000
641120.500000
4748629.500000
