1.000000
0.000000
0.000000
-1.000000
654630.500000
4753569.500000
