1.000000
0.000000
0.000000
-1.000000
661540.500000
4749099.500000
