1.000000
0.000000
0.000000
-1.000000
668350.500000
4749269.500000
