1.000000
0.000000
0.000000
-1.000000
674800.500000
4763329.500000
