1.000000
0.000000
0.000000
-1.000000
675040.500000
4754079.500000
