1.000000
0.000000
0.000000
-1.000000
573110.500000
4742879.500000
