1.000000
0.000000
0.000000
-1.000000
566340.500000
4738169.500000
