1.000000
0.000000
0.000000
-1.000000
600350.500000
4743249.500000
