1.000000
0.000000
0.000000
-1.000000
600420.500000
4738619.500000
