1.000000
0.000000
0.000000
-1.000000
634410.500000
4743859.500000
